BEGIN:VCALENDAR
VERSION:2.0
PRODID:-//Aksioma - ECPv6.3.5//NONSGML v1.0//EN
CALSCALE:GREGORIAN
METHOD:PUBLISH
X-WR-CALNAME:Aksioma
X-ORIGINAL-URL:https://aksioma.com.ua
X-WR-CALDESC:Мероприятия для Aksioma
REFRESH-INTERVAL;VALUE=DURATION:PT1H
X-Robots-Tag:noindex
X-PUBLISHED-TTL:PT1H
BEGIN:VTIMEZONE
TZID:Europe/Moscow
BEGIN:STANDARD
TZOFFSETFROM:+0300
TZOFFSETTO:+0300
TZNAME:MSK
DTSTART:20160101T000000
END:STANDARD
END:VTIMEZONE
BEGIN:VEVENT
DTSTART;TZID=Europe/Moscow:20190126T080000
DTEND;TZID=Europe/Moscow:20190126T180000
DTSTAMP:20260420T081816
CREATED:20181127T200923Z
LAST-MODIFIED:20181127T200923Z
UID:11084-1548489600-1548525600@aksioma.com.ua
SUMMARY:Тренинг "Тимбилдинг-мастер" Организовуй тимбилдинг своими руками
DESCRIPTION:Тренинг «Тимбилдинг-мастер» Организовуй тимбилдинг своими руками. Этот тренинг раскроет для Вас широкий спектр игровых форм\, которые помогут Вам сформировать свое комендообразующее мероприятие для Ваших сотрудников или детей в Вашем классе. \nВ ПРОЦЕССЕ ТРЕНИНГА МЫ:\n— классифицируем командообразующие интерактивные игровые формы из цикла ВЕРЕВОЧНОГО ТРЕНИНГА;\n— рассмотрим основные их вариации\, а также широкий спектр наполнения смысловым командообразующим значением;\n— научимся анализировать подобные игровые формы и проецировать их эффект на реальные жизненные ситуации;\n— все игровые формы мы с Вами пройдем на практике. \nЧто такое веревочный тренинг? Веревочный тренинг – это спектр разнообразных командных упражнений и заданий\, каждое из которых может быть успешно выполнено только командой. Каждое из заданий требует определенного вида командного взаимодействия — интеллектуального\, физического\, психологического\, или разнообразного их сочетания. Каждое командное упражнение пред¬назначено для отработки одного или нескольких элементов командного взаимодействия — например\, ролевого распределения\, ситуационного лидерства\, развития доверия\, раскрытия незнакомых и новых качеств в участниках\, творческого мышления и командной эффективности. \nТак же после окончания тренинга ВЫ ПОЛУЧИТЕ все материалы а так же пробный сценарий тимбилдингового квеста. \nУЧАСТИЕ В ТРЕНИНГЕ ПОМОЖЕТ:\n— педагогу и социальному работнику – включить в свою деятельность игровые формы\, интересные современному ребенку\, разнообразить методическую и воспитательную работу;\n— аниматору и ведущему – стать профессиональнее и увеличить востребованность на рынке детских праздников;\n— руководителю учреждения культуры и праздничного агентства – в удобной и экономной форме повысить профессиональный уровень своих сотрудников;\n— культорганизатору и режиссеру – получить практический игровой и музыкальный материал для создания уникальных мероприятий;\n— вожатому – собрать методический багаж для работы в лагере или педагогическом проекте\, которого хватит на 4 смены интенсивной работы. \nТЕРМИНЫ ПРОВЕДЕНИЯ: Мы запланировали тренинг на 26 января. \nМесто проведение — центральная часть города Запорожья (точнее будет сообщаться участникам за 2 недели до тренинга)\nСтоимость тренинга 350 грн. В стоимость входит организация кофе паузы. \nРЕГИСТРАЦИЯ НА ТРЕНИНГ — https://goo.gl/forms/uorBuCMzY9Ag8E1k1 \nКонтакты 0501696920 или 0979404523\naksioma.zp@gmail.com
URL:https://aksioma.com.ua/event/trening-timbilding-master-organizovuj-timbilding-svoimi-rukami/
ATTACH;FMTTYPE=image/jpeg:https://aksioma.com.ua/wp-content/uploads/2018/11/банер-1.jpg
ORGANIZER;CN="%D0%90%D0%BB%D0%B5%D0%BA%D1%81%D0%B5%D0%B9":MAILTO:aksioma.zp@gmail.com
END:VEVENT
BEGIN:VEVENT
DTSTART;TZID=Europe/Moscow:20181124T093000
DTEND;TZID=Europe/Moscow:20181124T180000
DTSTAMP:20260420T081816
CREATED:20181012T123209Z
LAST-MODIFIED:20181012T123209Z
UID:11033-1543051800-1543082400@aksioma.com.ua
SUMMARY:Тренинг в Запорожье. День здоровья своими руками.
DESCRIPTION:Тренинг в Запорожье. День здоровья своими руками. \nМы можем Вам помочь организовать день здоровья своими руками. Вы легко сможете это сделать посетив наш тренинг «День здоровья своими руками». В процессе тренинга Вы попробуете все на себе. В программе тренинга Вас ждет:\n— классификация игровых программ;\n— с чего начать день здоровья для успешного окончания;\n— развлекательные игровые формы для поднятия эмоциональной активности участников;\n— командообразующие игровые формы на улице и в помещении. \n\nНаша команда имеет 10-ти летний опыт организации спортивных лагерей\, игровых учебных программ\, дней здоровья\, а так же туристических походов и практикумов. И вот настало время делится своим опытом с Вами. \nДля кого тренинг? Тренинг подойдет для педагогов организаторов\, аниматоров\, организаторов детских лагерей\, и конечно для всех\, кому это будет интересно. \nМесто проведение тренинга — г. Запорожье\, проспект Соборный 159 (остановка транспорта ул. Мира)\nСтоимость тренинга — 350 грн. в случае регистрации до 1 ноября\, 400 грн. в случае регистрации до 10 ноября\, 500 грн. в случае регистрации после 10 ноября. \nУсловия регистрации на тренинг в Запорожье День здоровья своими руками  : Зарегистрироваться вы можете по ссылке https://goo.gl/forms/7VozkAEo9gGa6D3F2 или позвонить по телефону. После регистрации мы вышлем Вам номер нашего счета для оплаты вступительного взноса. После оплаты вступительного взноса место для Вас будет зарезервировано. \nКонтактные данные :\nТренинг будет вести главный тренер нашей организации Алексей Николаев (м.т. 0501696920 или 0979404523)\nэл. адрес aksioma.zp@gmail.com
URL:https://aksioma.com.ua/event/trening-v-zaporozhe-den-zdorovya-svoimi-rukami/
ATTACH;FMTTYPE=image/jpeg:https://aksioma.com.ua/wp-content/uploads/2018/10/БАНЕР-2.jpg
ORGANIZER;CN="%D0%90%D0%BB%D0%B5%D0%BA%D1%81%D0%B5%D0%B9":MAILTO:aksioma.zp@gmail.com
END:VEVENT
BEGIN:VEVENT
DTSTART;TZID=Europe/Moscow:20160718T080000
DTEND;TZID=Europe/Moscow:20160728T170000
DTSTAMP:20260420T081816
CREATED:20160615T202924Z
LAST-MODIFIED:20160625T144727Z
UID:9801-1468828800-1469725200@aksioma.com.ua
SUMMARY:Детский палаточный лагерь "Робинзон"
DESCRIPTION:ВНИМАНИЕ ВСЕМ\nТуристско-спортивный палаточный лагерь для детей и родителей «Робинзон» будет базироваться в Николаевской области в селе Петрово-Солониха на берегу реки Южный Буг. Нас радушно принимает спортивно-развивающий центр «Истоки»\nЛагерь оборудован всеми удобствами: Туалет\, Душ\, есть электричество\, столовая\, беседки для отдыха\, бассейн\, красивый ландшафтный дизайн.\nВсе участники лагеря будут жить в палатках и питаться в столовой. \n    \nПрограмма лагеря включает в себя:\n— Активные туристко-развлекательные и ролевые игры\n— Интересные активности и тренинги по плетению\, стрельбе из лука\, технике туризма\, скалолазанию\, изготовлению денежного дерева\, вязанию туристких узлов\, технике выживания\, оказания первую медицинской помощи\, ориентированию\, слейк лайн и многое другое.\n— Поездка в Очаковский аквапарк \n \n— Поездка в национальный историко-археологический заповедник «Ольвия» \n      \n— Рафтинг в Мигее \n \n— Экскурсия по Николаевскому Зоопарку – одному из лучших в Европе \n \n— Экскурсия в Николаевский музей судостроения и флота \n \n— Поездки на море\n— Творческие вечера с песнями и дискотеками\n— Прогулки на велосипедах и на лодке\n— Рыбалка и многое другое\nКаждый участник получит памятную футболку\, значок и диск с фотографиями.\nЛагерь состоится с  18 по 28 июля\nПеревозка участников будет совершаться комфортными автобусами. Автобус будет следовать из Запорожья.\nРегистрация уже началась. Количество мест ограничено. Возможно\, что для участников\, которые не успеют зарегистрироваться до конца мая путевка будет дороже. Спешите.\nПо вопросам стоимости и организационным вопросам обращайтесь по телефонам: Алексей – 0501696920\0979404523; Светлана — 0976873584.\nНаши странички в соц. сетях:\nКонтакт http://vk.com/robinzon2016a\nФейсбук https://www.facebook.com/groups/1027849753918306/
URL:https://aksioma.com.ua/event/detskij-palatochnyj-lager-robinzon/
LOCATION:село Петрово-Солониха\, село Петрово-Солониха\, Николаевская область\, Украина
CATEGORIES:Семейный отдых
ATTACH;FMTTYPE=image/jpeg:https://aksioma.com.ua/wp-content/uploads/2016/06/Depositphotos_3569436_L.jpg
END:VEVENT
BEGIN:VEVENT
DTSTART;TZID=Europe/Moscow:20160612T100000
DTEND;TZID=Europe/Moscow:20160612T170000
DTSTAMP:20260420T081816
CREATED:20160607T100755Z
LAST-MODIFIED:20160607T104105Z
UID:9635-1465725600-1465750800@aksioma.com.ua
SUMMARY:Мама\, Папа\, Я - мы туристская семья
DESCRIPTION:«Мама\, Папа\, Я — мы туристская семья» — это туриско-спортивные конкурсы и соревнования для всей семьи\, которые направлены на поддержания хороших семейных отношений\, понимания между детьми и родителями и просто приятное время провождение на природе с любимыми людьми. А также вы сможете найти новых друзей и знакомых\, которые любят отдыхать также как и ВЫ))))\nПраздник будет проходить на острове Хортица. На пляже бывшей комсомольской школы. На праздник приглашаются семьи и все кто любит активный отдых и туристско-спортивные соревнования и здоровый образ жизни.\nВ программе мероприятия ожидается:\nВеревочные парки;\nСтрельба из лука;\nКатания на байдарках;\nВеселые командные игры и полосы препятствий\nОбщий сбор:\n— Возле Казака Мамая — 9:30\n— На стоянке возле бывшей комсомольской школы 9:50\nОрганизационный сбор 150 грн. с человека\nдети от 6 до 8 лет — 50 грн.\nдети младше 6 лет бесплатно.\nВСЕХ ОЧЕНЬ ЖДЕМ!!!!! \n 
URL:https://aksioma.com.ua/event/mama-papa-ya-my-turistskaya-semya/
LOCATION:остров Хортица\, комсомольская школа\, Запорожье\, Украина
ATTACH;FMTTYPE=image/jpeg:https://aksioma.com.ua/wp-content/uploads/2016/06/K8qS_u6RJ5M-e1465296025625.jpg
ORGANIZER;CN="%D0%90%D0%BB%D0%B5%D0%BA%D1%81%D0%B5%D0%B9%2C %D0%A1%D0%B2%D0%B5%D1%82%D0%BB%D0%B0%D0%BD%D0%B0":MAILTO:aksioma.zp@gmail.com
END:VEVENT
END:VCALENDAR